BEGIN:VCALENDAR
VERSION:2.0
PRODID:-//Acacia Ridge Schools Naivasha - Kindergarten | Primary | Junior Secondary - ECPv6.15.16.1//NONSGML v1.0//EN
CALSCALE:GREGORIAN
METHOD:PUBLISH
X-ORIGINAL-URL:https://acaciaridgeschools.com
X-WR-CALDESC:Events for Acacia Ridge Schools Naivasha - Kindergarten | Primary | Junior Secondary
REFRESH-INTERVAL;VALUE=DURATION:PT1H
X-Robots-Tag:noindex
X-PUBLISHED-TTL:PT1H
BEGIN:VTIMEZONE
TZID:Europe/Moscow
BEGIN:STANDARD
TZOFFSETFROM:+0300
TZOFFSETTO:+0300
TZNAME:MSK
DTSTART:20240101T000000
END:STANDARD
END:VTIMEZONE
BEGIN:VEVENT
DTSTART;TZID=Europe/Moscow:20251111T090000
DTEND;TZID=Europe/Moscow:20251220T160000
DTSTAMP:20260421T153432
CREATED:20251031T071018Z
LAST-MODIFIED:20251031T115340Z
UID:2554-1762851600-1766246400@acaciaridgeschools.com
SUMMARY:Acacia Ridge Schools\, Naivasha Calendar
DESCRIPTION:Interview Requirements.\n\nLatest Report Book / Progress Record\nBasic Stationery: Pencil\, Sharpener\, and Eraser\nCopy of the Child’s Birth Certificate\nAdmission Application Form (if not yet submitted)\nRecent Passport-Size Photograph of the child\nCopy of Parent/Guardian ID (for verification purposes)
URL:https://acaciaridgeschools.com/event/acacia-ridge-schools-naivasha-calendar/
LOCATION:ACACIA RIDGE SCHOOLS\, P.O BOX 1463\, Nakuru\, Naivasha\, 20100\, Kenya
ATTACH;FMTTYPE=image/jpeg:https://acaciaridgeschools.com/wp-content/uploads/2025/10/acacia-interview.jpg
ORGANIZER;CN="Acacia Ridge Schools":MAILTO:info@acaciaridgeschools.com
END:VEVENT
END:VCALENDAR